BEGIN:VCALENDAR
VERSION:2.0
PRODID:DPCALENDAR
CALSCALE:GREGORIAN
BEGIN:VTIMEZONE
TZID:Europe/Berlin
X-MICROSOFT-CDO-TZID:4
BEGIN:STANDARD
DTSTART:20251026T010000
TZOFFSETFROM:+0200
TZOFFSETTO:+0100
TZNAME:CET
END:STANDARD
BEGIN:STANDARD
DTSTART:20261025T010000
TZOFFSETFROM:+0200
TZOFFSETTO:+0100
TZNAME:CET
END:STANDARD
BEGIN:DAYLIGHT
DTSTART:20260329T010000
TZOFFSETFROM:+0100
TZOFFSETTO:+0200
TZNAME:CEST
END:DAYLIGHT
END:VTIMEZONE
X-WR-TIMEZONE:Europe/Berlin
BEGIN:VEVENT
DTSTART;TZID=Europe/Berlin:20190330T080000
DTEND;TZID=Europe/Berlin:20190330T131500
UID:761741AE-7CE6-4EED-9546-42CBC8DA235F
SUMMARY:Arbeitsdienst und 2. Ausgabe der Angelpapiere
CREATED:20190310T172107Z
DTSTAMP:20190310T172107Z
DESCRIPTION:
X-ALT-DESC;FMTTYPE=text/html:
LOCATION:Flachsrosensee\, Carl-Zeiss-Straße 25\, 63456 Hanau\, Deutschland
GEO:50.09478847;8.93870831
LAST-MODIFIED:20190414T171939Z
SEQUENCE:3023912
X-ACCESS:1
X-HITS:613
X-URL:https://www.asv-klein-auheim.de/index.php?option=com_dpcalendar&view=event&id=1&calid=13
X-COLOR:3366cc
X-SHOW-END-TIME:1
END:VEVENT
BEGIN:VEVENT
DTSTART;TZID=Europe/Berlin:20190419T080000
DTEND;TZID=Europe/Berlin:20190419T180000
UID:28507E40-DF11-4056-BB3F-68174DC916B0
SUMMARY:Karfreitag Freundschaftsangeln
CREATED:20190310T183356Z
DTSTAMP:20190310T183356Z
DESCRIPTION:
X-ALT-DESC;FMTTYPE=text/html:
LOCATION:Flachsrosensee\, Carl-Zeiss-Straße 25\, 63456 Hanau\, Deutschland
GEO:50.09478847;8.93870831
LAST-MODIFIED:20190414T172018Z
SEQUENCE:3019582
X-ACCESS:1
X-HITS:589
X-URL:https://www.asv-klein-auheim.de/index.php?option=com_dpcalendar&view=event&id=2&calid=13
X-COLOR:3366cc
X-SHOW-END-TIME:1
END:VEVENT
BEGIN:VEVENT
DTSTART;TZID=Europe/Berlin:20190428T080000
DTEND;TZID=Europe/Berlin:20190428T110000
UID:E460F691-B2CA-429D-B8E3-2D8E85485E75
SUMMARY:Anangeln
CREATED:20190314T160807Z
DTSTAMP:20190314T160807Z
DESCRIPTION:Treffpunkt: 07:00 Uhr
X-ALT-DESC;FMTTYPE=text/html:<p>Treffpunkt: 07:00 Uhr</p>
LOCATION:Flachsrosensee\, Carl-Zeiss-Straße 25\, 63456 Hanau\, Deutschland
GEO:50.09478847;8.93870831
LAST-MODIFIED:20190414T173517Z
SEQUENCE:2683630
X-ACCESS:1
X-HITS:582
X-URL:https://www.asv-klein-auheim.de/index.php?option=com_dpcalendar&view=event&id=3&calid=13
X-COLOR:3366cc
X-SHOW-END-TIME:1
END:VEVENT
BEGIN:VEVENT
DTSTART;TZID=Europe/Berlin:20190518T080000
DTEND;TZID=Europe/Berlin:20190518T131500
UID:E132E2CD-808B-4F4C-BA97-832CB015480A
SUMMARY:Arbeitsdienst
CREATED:20190314T160938Z
DTSTAMP:20190314T160938Z
DESCRIPTION:
X-ALT-DESC;FMTTYPE=text/html:
LOCATION:Flachsrosensee\, Carl-Zeiss-Straße 25\, 63456 Hanau\, Deutschland
GEO:50.09478847;8.93870831
LAST-MODIFIED:20190414T172103Z
SEQUENCE:2682685
X-ACCESS:1
X-HITS:663
X-URL:https://www.asv-klein-auheim.de/index.php?option=com_dpcalendar&view=event&id=4&calid=13
X-COLOR:3366cc
X-SHOW-END-TIME:1
END:VEVENT
BEGIN:VEVENT
DTSTART;TZID=Europe/Berlin:20190519T080000
DTEND;TZID=Europe/Berlin:20190519T090000
UID:251F04EE-6B86-4859-9588-AACE0387C728
SUMMARY:Berthold Sattler Hegefischen
CREATED:20190314T161116Z
DTSTAMP:20190314T161116Z
DESCRIPTION:Treffpunkt: 07:00 Uhr
X-ALT-DESC;FMTTYPE=text/html:<p>Treffpunkt: 07:00 Uhr</p>
LOCATION:Flachsrosensee\, Carl-Zeiss-Straße 25\, 63456 Hanau\, Deutschland
GEO:50.09478847;8.93870831
LAST-MODIFIED:20190414T173413Z
SEQUENCE:2683377
X-ACCESS:1
X-HITS:526
X-URL:https://www.asv-klein-auheim.de/index.php?option=com_dpcalendar&view=event&id=5&calid=13
X-COLOR:3366cc
X-SHOW-END-TIME:0
END:VEVENT
BEGIN:VEVENT
DTSTART;TZID=Europe/Berlin:20190615T080000
DTEND;TZID=Europe/Berlin:20190615T131500
UID:D91EA711-0754-453E-8A28-F7D0EC076055
SUMMARY:Arbeitsdienst
CREATED:20190314T161321Z
DTSTAMP:20190314T161321Z
DESCRIPTION:
X-ALT-DESC;FMTTYPE=text/html:
LOCATION:Flachsrosensee\, Carl-Zeiss-Straße 25\, 63456 Hanau\, Deutschland
GEO:50.09478847;8.93870831
LAST-MODIFIED:20190414T172813Z
SEQUENCE:2682892
X-ACCESS:1
X-HITS:939
X-URL:https://www.asv-klein-auheim.de/index.php?option=com_dpcalendar&view=event&id=6&calid=13
X-COLOR:3366cc
X-SHOW-END-TIME:1
END:VEVENT
BEGIN:VEVENT
DTSTART;TZID=Europe/Berlin:20190616T080000
DTEND;TZID=Europe/Berlin:20190616T110000
UID:82CFCBA7-0BE5-4C5A-889C-20250BC08134
SUMMARY:Hegefischen
CREATED:20190314T161538Z
DTSTAMP:20190314T161538Z
DESCRIPTION:Treffpunkt: 07:00 Uhr
X-ALT-DESC;FMTTYPE=text/html:<p>Treffpunkt: 07:00 Uhr</p>
LOCATION:Flachsrosensee\, Carl-Zeiss-Straße 25\, 63456 Hanau\, Deutschland
GEO:50.09478847;8.93870831
LAST-MODIFIED:20190414T173537Z
SEQUENCE:2683199
X-ACCESS:1
X-HITS:707
X-URL:https://www.asv-klein-auheim.de/index.php?option=com_dpcalendar&view=event&id=7&calid=13
X-COLOR:3366cc
X-SHOW-END-TIME:1
END:VEVENT
BEGIN:VEVENT
DTSTART;TZID=Europe/Berlin:20190824T080000
DTEND;TZID=Europe/Berlin:20190824T131500
UID:554B75C7-F5ED-4A86-B7BD-EF97B1EE9EBE
SUMMARY:Arbeitsdienst
CREATED:20190314T161624Z
DTSTAMP:20190314T161624Z
DESCRIPTION:
X-ALT-DESC;FMTTYPE=text/html:
LOCATION:Flachsrosensee\, Carl-Zeiss-Straße 25\, 63456 Hanau\, Deutschland
GEO:50.09478847;8.93870831
LAST-MODIFIED:20190414T172857Z
SEQUENCE:2682753
X-ACCESS:1
X-HITS:1544
X-URL:https://www.asv-klein-auheim.de/index.php?option=com_dpcalendar&view=event&id=8&calid=13
X-COLOR:3366cc
X-SHOW-END-TIME:1
END:VEVENT
BEGIN:VEVENT
DTSTART;TZID=Europe/Berlin:20190901T080000
DTEND;TZID=Europe/Berlin:20190901T110000
UID:59A24BA4-C30C-4256-A67C-67102479645E
SUMMARY:Hegefischen
CREATED:20190314T161716Z
DTSTAMP:20190314T161716Z
DESCRIPTION:Treffpunkt: 07:00 Uhr
X-ALT-DESC;FMTTYPE=text/html:<p>Treffpunkt: 07:00 Uhr</p>
LOCATION:Flachsrosensee\, Carl-Zeiss-Straße 25\, 63456 Hanau\, Deutschland
GEO:50.09478847;8.93870831
LAST-MODIFIED:20190414T173553Z
SEQUENCE:2683117
X-ACCESS:1
X-HITS:1099
X-URL:https://www.asv-klein-auheim.de/index.php?option=com_dpcalendar&view=event&id=9&calid=13
X-COLOR:3366cc
X-SHOW-END-TIME:1
END:VEVENT
BEGIN:VEVENT
DTSTART;TZID=Europe/Berlin:20190915T130000
DTEND;TZID=Europe/Berlin:20190915T180000
UID:C7E9C50A-D838-4092-BF5F-18D3517669D5
SUMMARY:Seniorenangeln ab 50 Jahre
CREATED:20190314T161832Z
DTSTAMP:20190314T161832Z
DESCRIPTION:
X-ALT-DESC;FMTTYPE=text/html:
LOCATION:Flachsrosensee\, Carl-Zeiss-Straße 25\, 63456 Hanau\, Deutschland
GEO:50.09478847;8.93870831
LAST-MODIFIED:20190414T172941Z
SEQUENCE:2682669
X-ACCESS:1
X-HITS:937
X-URL:https://www.asv-klein-auheim.de/index.php?option=com_dpcalendar&view=event&id=10&calid=13
X-COLOR:3366cc
X-SHOW-END-TIME:1
END:VEVENT
BEGIN:VEVENT
DTSTART;TZID=Europe/Berlin:20191003T080000
DTEND;TZID=Europe/Berlin:20191003T180000
UID:1EFB0A3C-3EA6-40ED-8A21-FBB483D9F45D
SUMMARY:Freundschaftsangeln ASV Mitglieder
CREATED:20190314T161949Z
DTSTAMP:20190314T161949Z
DESCRIPTION:
X-ALT-DESC;FMTTYPE=text/html:
LOCATION:Flachsrosensee\, Carl-Zeiss-Straße 25\, 63456 Hanau\, Deutschland
GEO:50.09478847;8.93870831
LAST-MODIFIED:20190414T173005Z
SEQUENCE:2682616
X-ACCESS:1
X-HITS:734
X-URL:https://www.asv-klein-auheim.de/index.php?option=com_dpcalendar&view=event&id=11&calid=13
X-COLOR:3366cc
X-SHOW-END-TIME:1
END:VEVENT
BEGIN:VEVENT
DTSTART;TZID=Europe/Berlin:20191005T080000
DTEND;TZID=Europe/Berlin:20191005T131500
UID:B66BF792-A8D0-420D-902A-A89C5AF5A639
SUMMARY:Arbeitsdienst
CREATED:20190314T162104Z
DTSTAMP:20190314T162104Z
DESCRIPTION:
X-ALT-DESC;FMTTYPE=text/html:
LOCATION:Flachsrosensee\, Carl-Zeiss-Straße 25\, 63456 Hanau\, Deutschland
GEO:50.09478847;8.93870831
LAST-MODIFIED:20190414T173033Z
SEQUENCE:2682569
X-ACCESS:1
X-HITS:1763
X-URL:https://www.asv-klein-auheim.de/index.php?option=com_dpcalendar&view=event&id=12&calid=13
X-COLOR:3366cc
X-SHOW-END-TIME:1
END:VEVENT
BEGIN:VEVENT
DTSTART;TZID=Europe/Berlin:20191012T080000
DTEND;TZID=Europe/Berlin:20191012T131500
UID:9126E592-2ADB-4CFA-A73C-6A39FCCA33B2
SUMMARY:Arbeitsdienst
CREATED:20190314T162432Z
DTSTAMP:20190314T162432Z
DESCRIPTION:
X-ALT-DESC;FMTTYPE=text/html:
LOCATION:Flachsrosensee\, Carl-Zeiss-Straße 25\, 63456 Hanau\, Deutschland
GEO:50.09478847;8.93870831
LAST-MODIFIED:20190414T173058Z
SEQUENCE:2682386
X-ACCESS:1
X-HITS:1520
X-URL:https://www.asv-klein-auheim.de/index.php?option=com_dpcalendar&view=event&id=13&calid=13
X-COLOR:3366cc
X-SHOW-END-TIME:1
END:VEVENT
BEGIN:VEVENT
DTSTART;TZID=Europe/Berlin:20191013T080000
DTEND;TZID=Europe/Berlin:20191013T110000
UID:90810146-47E0-4530-BDC4-53F223188C04
SUMMARY:Abangeln
CREATED:20190314T162544Z
DTSTAMP:20190314T162544Z
DESCRIPTION:Treffpunkt: 07:00 Uhr
X-ALT-DESC;FMTTYPE=text/html:<p>Treffpunkt: 07:00 Uhr</p>
LOCATION:Flachsrosensee\, Carl-Zeiss-Straße 25\, 63456 Hanau\, Deutschland
GEO:50.09478847;8.93870831
LAST-MODIFIED:20190414T173612Z
SEQUENCE:2682628
X-ACCESS:1
X-HITS:692
X-URL:https://www.asv-klein-auheim.de/index.php?option=com_dpcalendar&view=event&id=14&calid=13
X-COLOR:3366cc
X-SHOW-END-TIME:1
END:VEVENT
BEGIN:VEVENT
DTSTART;TZID=Europe/Berlin:20191019T180000
DTEND;TZID=Europe/Berlin:20191019T190000
UID:D0766F04-4854-4960-9782-29258B915360
SUMMARY:Anglerstammtisch
CREATED:20190314T162629Z
DTSTAMP:20190314T162629Z
DESCRIPTION:Jugendraum
X-ALT-DESC;FMTTYPE=text/html:<p>Jugendraum</p>
LOCATION:Anglerheim\, Carl-Zeiss-Straße 25\, 63456 Hanau\, Deutschland
GEO:50.09472308;8.93961489
LAST-MODIFIED:20190414T173143Z
SEQUENCE:2682314
X-ACCESS:1
X-HITS:498
X-URL:https://www.asv-klein-auheim.de/index.php?option=com_dpcalendar&view=event&id=15&calid=13
X-COLOR:3366cc
X-SHOW-END-TIME:0
END:VEVENT
BEGIN:VEVENT
DTSTART;TZID=Europe/Berlin:20191207T190000
DTEND;TZID=Europe/Berlin:20191207T200000
UID:A2BE1734-F4F0-4FCE-9756-51F64A40982F
SUMMARY:Weihnachtsfeier
CREATED:20190314T162748Z
DTSTAMP:20190314T162748Z
DESCRIPTION:Anmeldung obligatorisch
X-ALT-DESC;FMTTYPE=text/html:<p>Anmeldung obligatorisch</p>
LOCATION:Anglerheim\, Carl-Zeiss-Straße 25\, 63456 Hanau\, Deutschland
GEO:50.09472308;8.93961489
LAST-MODIFIED:20190414T173206Z
SEQUENCE:2682258
X-ACCESS:1
X-HITS:873
X-URL:https://www.asv-klein-auheim.de/index.php?option=com_dpcalendar&view=event&id=16&calid=13
X-COLOR:3366cc
X-SHOW-END-TIME:0
END:VEVENT
END:VCALENDAR