BEGIN:VCALENDAR
VERSION:2.0
PRODID:DPCALENDAR
CALSCALE:GREGORIAN
BEGIN:VTIMEZONE
TZID:Europe/Berlin
X-MICROSOFT-CDO-TZID:4
BEGIN:STANDARD
DTSTART:20251026T010000
TZOFFSETFROM:+0200
TZOFFSETTO:+0100
TZNAME:CET
END:STANDARD
BEGIN:STANDARD
DTSTART:20261025T010000
TZOFFSETFROM:+0200
TZOFFSETTO:+0100
TZNAME:CET
END:STANDARD
BEGIN:DAYLIGHT
DTSTART:20260329T010000
TZOFFSETFROM:+0100
TZOFFSETTO:+0200
TZNAME:CEST
END:DAYLIGHT
END:VTIMEZONE
X-WR-TIMEZONE:Europe/Berlin
BEGIN:VEVENT
DTSTART;TZID=Europe/Berlin:20190531T183000
DTEND;TZID=Europe/Berlin:20190531T193000
UID:508AA0CD-46DB-40A2-98D6-F6525C63DF60
SUMMARY:Außerordentliche Mitgliederversammlung
CREATED:20190511T203325Z
DTSTAMP:20190511T203325Z
DESCRIPTION:
X-ALT-DESC;FMTTYPE=text/html:
X-ACCESS:1
X-HITS:367
X-URL:https://www.asv-klein-auheim.de/index.php?option=com_dpcalendar&view=event&id=17&calid=15
X-COLOR:3366cc
X-SHOW-END-TIME:0
END:VEVENT
BEGIN:VEVENT
DTSTART;TZID=Europe/Berlin:20191115T183000
DTEND;TZID=Europe/Berlin:20191115T193000
UID:79725610-AF7A-4EF7-942F-E3B884C528AF
SUMMARY:Außerordentliche Mitgliederversammlung
CREATED:20191026T155546Z
DTSTAMP:20191026T155546Z
DESCRIPTION:
X-ALT-DESC;FMTTYPE=text/html:
LOCATION:Anglerheim\, Carl-Zeiss-Straße 25\, 63456 Hanau\, Deutschland
GEO:50.09472308;8.93961489
X-ACCESS:1
X-HITS:476
X-URL:https://www.asv-klein-auheim.de/index.php?option=com_dpcalendar&view=event&id=18&calid=15
X-COLOR:3366cc
X-SHOW-END-TIME:0
END:VEVENT
BEGIN:VEVENT
DTSTART;TZID=Europe/Berlin:20211001T190000
DTEND;TZID=Europe/Berlin:20211001T200000
UID:A2BF19E0-92DD-4D49-A55F-48994F656E74
SUMMARY:Jahreshauptversammlung
CREATED:20201215T171606Z
DTSTAMP:20201215T171606Z
DESCRIPTION:in der Alten Schule GroßauheimHans-Gruber-Platz 1-2
X-ALT-DESC;FMTTYPE=text/html:<p>in der Alten Schule Großauheim<br />Hans-Gruber-Platz 1-2</p>
LAST-MODIFIED:20210829T160102Z
SEQUENCE:22200296
X-ACCESS:1
X-HITS:744
X-URL:https://www.asv-klein-auheim.de/index.php?option=com_dpcalendar&view=event&id=41&calid=15
X-COLOR:3366cc
X-SHOW-END-TIME:0
END:VEVENT
BEGIN:VEVENT
DTSTART;TZID=Europe/Berlin:20220325T190000
DTEND;TZID=Europe/Berlin:20220325T200000
UID:AFB452B9-247D-4C46-8C89-8849292C7732
SUMMARY:Jahreshauptversammlung
CREATED:20211228T161145Z
DTSTAMP:20211228T161145Z
DESCRIPTION:Termin und Ort ist noch nicht bestätigt
X-ALT-DESC;FMTTYPE=text/html:<p>Termin und Ort ist noch nicht bestätigt</p>
X-ACCESS:1
X-HITS:646
X-URL:https://www.asv-klein-auheim.de/index.php?option=com_dpcalendar&view=event&id=61&calid=15
X-COLOR:3366cc
X-SHOW-END-TIME:0
END:VEVENT
BEGIN:VEVENT
DTSTART;TZID=Europe/Berlin:20230317T190000
DTEND;TZID=Europe/Berlin:20230317T200000
UID:E5162D30-103E-4CDD-AB55-6223855935F3
SUMMARY:Jahreshauptversammlung
CREATED:20221113T172237Z
DTSTAMP:20221113T172237Z
DESCRIPTION:Termin und Ort noch nicht bestätigt, erst mit offizieller Einladung durch den Vorstand
X-ALT-DESC;FMTTYPE=text/html:<p>Termin und Ort noch nicht bestätigt, erst mit offizieller Einladung durch den Vorstand</p>
LOCATION:Anglerheim\, Carl-Zeiss-Straße 25\, 63456 Hanau\, Deutschland
GEO:50.09472308;8.93961489
LAST-MODIFIED:20230215T192603Z
SEQUENCE:8129006
X-ACCESS:1
X-HITS:849
X-URL:https://www.asv-klein-auheim.de/index.php?option=com_dpcalendar&view=event&id=63&calid=15
X-COLOR:3366cc
X-SHOW-END-TIME:0
END:VEVENT
BEGIN:VEVENT
DTSTART;TZID=Europe/Berlin:20240412T190000
DTEND;TZID=Europe/Berlin:20240412T200000
UID:44BBD970-5C2F-472B-8DFE-383E9C608ED0
SUMMARY:Jahreshauptversammlung
CREATED:20240102T175411Z
DTSTAMP:20240102T175411Z
DESCRIPTION:Termin und Ort ist noch nicht bestätigt
X-ALT-DESC;FMTTYPE=text/html:<p>Termin und Ort ist noch nicht bestätigt</p>
LOCATION:Anglerheim\, Carl-Zeiss-Straße 25\, 63456 Hanau\, Deutschland
GEO:50.09472308;8.93961489
X-ACCESS:1
X-HITS:1389
X-URL:https://www.asv-klein-auheim.de/index.php?option=com_dpcalendar&view=event&id=79&calid=15
X-COLOR:3366cc
X-SHOW-END-TIME:0
END:VEVENT
BEGIN:VEVENT
DTSTART;TZID=Europe/Berlin:20250328T190000
DTEND;TZID=Europe/Berlin:20250328T200000
UID:6D3F3970-AF32-4042-8B9C-0521A4AA9FC1
SUMMARY:Jahreshauptversammlung
CREATED:20250119T144322Z
DTSTAMP:20250119T144322Z
DESCRIPTION:Termin und Ort sind noch nicht bestätigt\NInfo: Neuwahl des Vorstandes
X-ALT-DESC;FMTTYPE=text/html:<p>Termin und Ort sind noch nicht bestätigt</p><p>Info: Neuwahl des Vorstandes</p>
LOCATION:Anglerheim\, Carl-Zeiss-Straße 25\, 63456 Hanau\, Deutschland
GEO:50.09472308;8.93961489
LAST-MODIFIED:20250119T144350Z
SEQUENCE:28
X-ACCESS:1
X-HITS:474
X-URL:https://www.asv-klein-auheim.de/index.php?option=com_dpcalendar&view=event&id=85&calid=15
X-COLOR:3366cc
X-SHOW-END-TIME:0
END:VEVENT
BEGIN:VEVENT
DTSTART;TZID=Europe/Berlin:20250606T190000
DTEND;TZID=Europe/Berlin:20250606T200000
UID:40F78F29-0AB7-403B-A639-959C7D3D9A2C
SUMMARY:Außerordentliche Mitgliederversammlung
CREATED:20250526T122252Z
DTSTAMP:20250526T122252Z
DESCRIPTION:
X-ALT-DESC;FMTTYPE=text/html:
LOCATION:Anglerheim\, Carl-Zeiss-Straße 25\, 63456 Hanau\, Deutschland
GEO:50.09472308;8.93961489
X-ACCESS:1
X-HITS:207
X-URL:https://www.asv-klein-auheim.de/index.php?option=com_dpcalendar&view=event&id=94&calid=15
X-COLOR:3366cc
X-SHOW-END-TIME:0
END:VEVENT
END:VCALENDAR