BEGIN:VCALENDAR
VERSION:2.0
PRODID:DPCALENDAR
CALSCALE:GREGORIAN
BEGIN:VTIMEZONE
TZID:Europe/Berlin
X-MICROSOFT-CDO-TZID:4
BEGIN:STANDARD
DTSTART:20251026T010000
TZOFFSETFROM:+0200
TZOFFSETTO:+0100
TZNAME:CET
END:STANDARD
BEGIN:STANDARD
DTSTART:20261025T010000
TZOFFSETFROM:+0200
TZOFFSETTO:+0100
TZNAME:CET
END:STANDARD
BEGIN:DAYLIGHT
DTSTART:20260329T010000
TZOFFSETFROM:+0100
TZOFFSETTO:+0200
TZNAME:CEST
END:DAYLIGHT
END:VTIMEZONE
X-WR-TIMEZONE:Europe/Berlin
BEGIN:VEVENT
DTSTART;TZID=Europe/Berlin:20230225T080000
DTEND;TZID=Europe/Berlin:20230225T123000
UID:B1ADC65B-1C4D-43E9-B81A-BBB6D9379FB7
SUMMARY:Arbeitsdienst
CREATED:20221115T153505Z
DTSTAMP:20221115T153505Z
DESCRIPTION:
X-ALT-DESC;FMTTYPE=text/html:
LOCATION:Flachsrosensee\, Carl-Zeiss-Straße 25\, 63456 Hanau\, Deutschland
GEO:50.09478847;8.93870831
LAST-MODIFIED:20221115T155815Z
SEQUENCE:1390
X-ACCESS:1
X-HITS:861
X-URL:https://www.asv-klein-auheim.de/index.php?option=com_dpcalendar&view=event&id=64&calid=19
X-COLOR:3366cc
X-SHOW-END-TIME:0
END:VEVENT
BEGIN:VEVENT
DTSTART;TZID=Europe/Berlin:20230407T080000
DTEND;TZID=Europe/Berlin:20230407T130000
UID:4F688522-352B-4A43-8773-3BAD53C233BF
SUMMARY:Anangeln - fällt aus!
CREATED:20221115T153857Z
DTSTAMP:20221115T153857Z
DESCRIPTION:Leider fällt das Anangeln kurzfristig aus.
X-ALT-DESC;FMTTYPE=text/html:<p>Leider fällt das Anangeln kurzfristig aus.</p>
LOCATION:Flachsrosensee\, Carl-Zeiss-Straße 25\, 63456 Hanau\, Deutschland
GEO:50.09478847;8.93870831
LAST-MODIFIED:20230404T205341Z
SEQUENCE:12114884
X-ACCESS:1
X-HITS:975
X-URL:https://www.asv-klein-auheim.de/index.php?option=com_dpcalendar&view=event&id=65&calid=19
X-COLOR:3366cc
X-SHOW-END-TIME:0
END:VEVENT
BEGIN:VEVENT
DTSTART;TZID=Europe/Berlin:20230506T080000
DTEND;TZID=Europe/Berlin:20230506T123000
UID:561E3932-37D5-4A67-B4CA-6882D3AD96C4
SUMMARY:Arbeitsdienst
CREATED:20221115T154055Z
DTSTAMP:20221115T154055Z
DESCRIPTION:
X-ALT-DESC;FMTTYPE=text/html:
LOCATION:Flachsrosensee\, Carl-Zeiss-Straße 25\, 63456 Hanau\, Deutschland
GEO:50.09478847;8.93870831
X-ACCESS:1
X-HITS:1049
X-URL:https://www.asv-klein-auheim.de/index.php?option=com_dpcalendar&view=event&id=66&calid=19
X-COLOR:3366cc
X-SHOW-END-TIME:0
END:VEVENT
BEGIN:VEVENT
DTSTART;TZID=Europe/Berlin:20230708T080000
DTEND;TZID=Europe/Berlin:20230708T123000
UID:9A3F6ACD-29FA-4877-9C58-8D7C87AC36AB
SUMMARY:Arbeitsdienst
CREATED:20221115T154156Z
DTSTAMP:20221115T154156Z
DESCRIPTION:
X-ALT-DESC;FMTTYPE=text/html:
LOCATION:Flachsrosensee\, Carl-Zeiss-Straße 25\, 63456 Hanau\, Deutschland
GEO:50.09478847;8.93870831
LAST-MODIFIED:20221115T154302Z
SEQUENCE:66
X-ACCESS:1
X-HITS:1108
X-URL:https://www.asv-klein-auheim.de/index.php?option=com_dpcalendar&view=event&id=67&calid=19
X-COLOR:3366cc
X-SHOW-END-TIME:0
END:VEVENT
BEGIN:VEVENT
DTSTART;TZID=Europe/Berlin:20230826T160000
DTEND;TZID=Europe/Berlin:20230826T170000
UID:2C5D1D09-B81A-42DB-8F0D-9AFC2749B702
SUMMARY:Grillfest
CREATED:20230505T161843Z
DTSTAMP:20230505T161843Z
DESCRIPTION:siehe Einladung im Mitgliederbereich unter "Intern" (Anmeldung erforderlich)
X-ALT-DESC;FMTTYPE=text/html:<p>siehe Einladung im Mitgliederbereich unter "Intern" (Anmeldung erforderlich)</p>
LOCATION:Flachsrosensee\, Carl-Zeiss-Straße 25\, 63456 Hanau\, Deutschland
GEO:50.09478847;8.93870831
X-ACCESS:1
X-HITS:776
X-URL:https://www.asv-klein-auheim.de/index.php?option=com_dpcalendar&view=event&id=73&calid=19
X-COLOR:3366cc
X-SHOW-END-TIME:0
END:VEVENT
BEGIN:VEVENT
DTSTART;TZID=Europe/Berlin:20230909T080000
DTEND;TZID=Europe/Berlin:20230909T123000
UID:59AE4F11-2675-4998-B6B0-360223EACB79
SUMMARY:Arbeitsdienst
CREATED:20221115T154250Z
DTSTAMP:20221115T154250Z
DESCRIPTION:
X-ALT-DESC;FMTTYPE=text/html:
LOCATION:Flachsrosensee\, Carl-Zeiss-Straße 25\, 63456 Hanau\, Deutschland
GEO:50.09478847;8.93870831
X-ACCESS:1
X-HITS:1238
X-URL:https://www.asv-klein-auheim.de/index.php?option=com_dpcalendar&view=event&id=68&calid=19
X-COLOR:3366cc
X-SHOW-END-TIME:0
END:VEVENT
BEGIN:VEVENT
DTSTART;TZID=Europe/Berlin:20231007T080000
DTEND;TZID=Europe/Berlin:20231007T123000
UID:3A176747-630B-4324-A5F2-79C789F353B6
SUMMARY:Arbeitsdienst
CREATED:20221115T154525Z
DTSTAMP:20221115T154525Z
DESCRIPTION:
X-ALT-DESC;FMTTYPE=text/html:
LOCATION:Flachsrosensee\, Carl-Zeiss-Straße 25\, 63456 Hanau\, Deutschland
GEO:50.09478847;8.93870831
X-ACCESS:1
X-HITS:964
X-URL:https://www.asv-klein-auheim.de/index.php?option=com_dpcalendar&view=event&id=70&calid=19
X-COLOR:3366cc
X-SHOW-END-TIME:0
END:VEVENT
BEGIN:VEVENT
DTSTART;TZID=Europe/Berlin:20231014T080000
DTEND;TZID=Europe/Berlin:20231014T123000
UID:3769B33D-9D3F-452A-9EA5-621FC62A409C
SUMMARY:Arbeitsdienst
CREATED:20221115T154754Z
DTSTAMP:20221115T154754Z
DESCRIPTION:
X-ALT-DESC;FMTTYPE=text/html:
LOCATION:Flachsrosensee\, Carl-Zeiss-Straße 25\, 63456 Hanau\, Deutschland
GEO:50.09478847;8.93870831
X-ACCESS:1
X-HITS:964
X-URL:https://www.asv-klein-auheim.de/index.php?option=com_dpcalendar&view=event&id=72&calid=19
X-COLOR:3366cc
X-SHOW-END-TIME:0
END:VEVENT
END:VCALENDAR