BEGIN:VCALENDAR
VERSION:2.0
PRODID:DPCALENDAR
CALSCALE:GREGORIAN
BEGIN:VTIMEZONE
TZID:Europe/Berlin
X-MICROSOFT-CDO-TZID:4
BEGIN:STANDARD
DTSTART:20251026T010000
TZOFFSETFROM:+0200
TZOFFSETTO:+0100
TZNAME:CET
END:STANDARD
BEGIN:STANDARD
DTSTART:20261025T010000
TZOFFSETFROM:+0200
TZOFFSETTO:+0100
TZNAME:CET
END:STANDARD
BEGIN:DAYLIGHT
DTSTART:20260329T010000
TZOFFSETFROM:+0100
TZOFFSETTO:+0200
TZNAME:CEST
END:DAYLIGHT
END:VTIMEZONE
X-WR-TIMEZONE:Europe/Berlin
BEGIN:VEVENT
DTSTART;TZID=Europe/Berlin:20240217T080000
DTEND;TZID=Europe/Berlin:20240217T123000
UID:D4712544-5076-4A51-8E36-655C81ABAE26
SUMMARY:Arbeitsdienst
CREATED:20240102T174311Z
DTSTAMP:20240102T174311Z
DESCRIPTION:
X-ALT-DESC;FMTTYPE=text/html:
LOCATION:Flachsrosensee\, Carl-Zeiss-Straße 25\, 63456 Hanau\, Deutschland
GEO:50.09478847;8.93870831
LAST-MODIFIED:20240102T174415Z
SEQUENCE:64
X-ACCESS:1
X-HITS:644
X-URL:https://www.asv-klein-auheim.de/index.php?option=com_dpcalendar&view=event&id=74&calid=20
X-COLOR:3366cc
X-SHOW-END-TIME:0
END:VEVENT
BEGIN:VEVENT
DTSTART;TZID=Europe/Berlin:20240224T080000
DTEND;TZID=Europe/Berlin:20240224T123000
UID:3C15737A-F201-4C2C-8CF1-099321B32070
SUMMARY:Arbeitsdienst
CREATED:20240102T174615Z
DTSTAMP:20240102T174615Z
DESCRIPTION:
X-ALT-DESC;FMTTYPE=text/html:
LOCATION:Flachsrosensee\, Carl-Zeiss-Straße 25\, 63456 Hanau\, Deutschland
GEO:50.09478847;8.93870831
LAST-MODIFIED:20240102T174721Z
SEQUENCE:66
X-ACCESS:1
X-HITS:797
X-URL:https://www.asv-klein-auheim.de/index.php?option=com_dpcalendar&view=event&id=75&calid=20
X-COLOR:3366cc
X-SHOW-END-TIME:0
END:VEVENT
BEGIN:VEVENT
DTSTART;TZID=Europe/Berlin:20240303T083000
DTEND;TZID=Europe/Berlin:20240303T130000
UID:361071A8-1742-4E6F-B9C1-5F4ACF9C4FD0
SUMMARY:abgesagt! Gemeinschaftsangeln Anangeln
CREATED:20240102T175708Z
DTSTAMP:20240102T175708Z
DESCRIPTION:Wegen dem Hochwasser am Flachsrosensee muss das Anangeln leider abgesagt werden.
X-ALT-DESC;FMTTYPE=text/html:<p>Wegen dem Hochwasser am Flachsrosensee muss das Anangeln leider abgesagt werden.</p>
LOCATION:Flachsrosensee\, Carl-Zeiss-Straße 25\, 63456 Hanau\, Deutschland
GEO:50.09478847;8.93870831
LAST-MODIFIED:20240222T195117Z
SEQUENCE:4413249
X-ACCESS:1
X-HITS:1024
X-URL:https://www.asv-klein-auheim.de/index.php?option=com_dpcalendar&view=event&id=80&calid=20
X-COLOR:3366cc
X-SHOW-END-TIME:1
END:VEVENT
BEGIN:VEVENT
DTSTART;TZID=Europe/Berlin:20240908T083000
DTEND;TZID=Europe/Berlin:20240908T130000
UID:DBE69392-17A7-4731-BE8B-A650FACE2EA0
SUMMARY:Gemeinschaftliches Angeln
CREATED:20240102T175852Z
DTSTAMP:20240102T175852Z
DESCRIPTION:
X-ALT-DESC;FMTTYPE=text/html:
LOCATION:Flachsrosensee\, Carl-Zeiss-Straße 25\, 63456 Hanau\, Deutschland
GEO:50.09478847;8.93870831
X-ACCESS:1
X-HITS:5043
X-URL:https://www.asv-klein-auheim.de/index.php?option=com_dpcalendar&view=event&id=81&calid=20
X-COLOR:3366cc
X-SHOW-END-TIME:1
END:VEVENT
BEGIN:VEVENT
DTSTART;TZID=Europe/Berlin:20240908T130000
DTEND;TZID=Europe/Berlin:20240908T190000
UID:10468310-EC36-404A-BFDD-0EB3ADAF08BA
SUMMARY:Sommerfest
CREATED:20240510T132340Z
DTSTAMP:20240510T132340Z
DESCRIPTION:
X-ALT-DESC;FMTTYPE=text/html:
LOCATION:Flachsrosensee\, Carl-Zeiss-Straße 25\, 63456 Hanau\, Deutschland
GEO:50.09478847;8.93870831
LAST-MODIFIED:20240510T132416Z
SEQUENCE:36
X-ACCESS:1
X-HITS:2779
X-URL:https://www.asv-klein-auheim.de/index.php?option=com_dpcalendar&view=event&id=83&calid=20
X-COLOR:3366cc
X-SHOW-END-TIME:1
END:VEVENT
BEGIN:VEVENT
DTSTART;TZID=Europe/Berlin:20241005T080000
DTEND;TZID=Europe/Berlin:20241005T130000
UID:5671BEEA-B3E7-4237-AB34-4164AB02416E
SUMMARY:Arbeitsdienst
CREATED:20240102T174916Z
DTSTAMP:20240102T174916Z
DESCRIPTION:
X-ALT-DESC;FMTTYPE=text/html:
LOCATION:Flachsrosensee\, Carl-Zeiss-Straße 25\, 63456 Hanau\, Deutschland
GEO:50.09478847;8.93870831
X-ACCESS:1
X-HITS:5595
X-URL:https://www.asv-klein-auheim.de/index.php?option=com_dpcalendar&view=event&id=76&calid=20
X-COLOR:3366cc
X-SHOW-END-TIME:0
END:VEVENT
BEGIN:VEVENT
DTSTART;TZID=Europe/Berlin:20241012T080000
DTEND;TZID=Europe/Berlin:20241012T123000
UID:501AB438-00FB-40D3-8236-42E36EBF4035
SUMMARY:Arbeitsdienst
CREATED:20240102T175043Z
DTSTAMP:20240102T175043Z
DESCRIPTION:
X-ALT-DESC;FMTTYPE=text/html:
LOCATION:Flachsrosensee\, Carl-Zeiss-Straße 25\, 63456 Hanau\, Deutschland
GEO:50.09478847;8.93870831
X-ACCESS:1
X-HITS:2106
X-URL:https://www.asv-klein-auheim.de/index.php?option=com_dpcalendar&view=event&id=77&calid=20
X-COLOR:3366cc
X-SHOW-END-TIME:0
END:VEVENT
BEGIN:VEVENT
DTSTART;TZID=Europe/Berlin:20241020T083000
DTEND;TZID=Europe/Berlin:20241020T130000
UID:120E75D1-009B-45D0-9A0B-E52BA13C697E
SUMMARY:Gemeinschaftsangeln Abangeln
CREATED:20240102T180029Z
DTSTAMP:20240102T180029Z
DESCRIPTION:
X-ALT-DESC;FMTTYPE=text/html:
LOCATION:Flachsrosensee\, Carl-Zeiss-Straße 25\, 63456 Hanau\, Deutschland
GEO:50.09478847;8.93870831
X-ACCESS:1
X-HITS:1331
X-URL:https://www.asv-klein-auheim.de/index.php?option=com_dpcalendar&view=event&id=82&calid=20
X-COLOR:3366cc
X-SHOW-END-TIME:1
END:VEVENT
BEGIN:VEVENT
DTSTART;TZID=Europe/Berlin:20241109T080000
DTEND;TZID=Europe/Berlin:20241109T123000
UID:4FAB41A0-378F-4611-A356-071B80783A19
SUMMARY:Arbeitsdienst
CREATED:20240102T175204Z
DTSTAMP:20240102T175204Z
DESCRIPTION:
X-ALT-DESC;FMTTYPE=text/html:
LOCATION:Flachsrosensee\, Carl-Zeiss-Straße 25\, 63456 Hanau\, Deutschland
GEO:50.09478847;8.93870831
X-ACCESS:1
X-HITS:1037
X-URL:https://www.asv-klein-auheim.de/index.php?option=com_dpcalendar&view=event&id=78&calid=20
X-COLOR:3366cc
X-SHOW-END-TIME:0
END:VEVENT
BEGIN:VEVENT
DTSTART;TZID=Europe/Berlin:20241124T083000
DTEND;TZID=Europe/Berlin:20241124T123000
UID:AF4DF443-84F5-478A-B798-9CC3104639AA
SUMMARY:Abangeln
CREATED:20240102T170029Z
DTSTAMP:20240102T170029Z
DESCRIPTION:Siehe aktuelle Ausschreibung im Mitgliederbereich.
X-ALT-DESC;FMTTYPE=text/html:<p>Siehe aktuelle Ausschreibung im Mitgliederbereich.</p>
LOCATION:Flachsrosensee\, Carl-Zeiss-Straße 25\, 63456 Hanau\, Deutschland
GEO:50.09478847;8.93870831
X-ACCESS:1
X-HITS:386
X-URL:https://www.asv-klein-auheim.de/index.php?option=com_dpcalendar&view=event&id=84&calid=20
X-COLOR:3366cc
X-SHOW-END-TIME:1
END:VEVENT
END:VCALENDAR